Workbook
Name Excel_BuiltIn_Print_Area: #REF!

Sheet 旭川・道北地区カブス要項2026
A1: 各中学校長
A2: 各サッカー部顧問 | H2: 様
A3: クラブチーム指導者
Y4: 旭川地区サッカー協会
AA5: 会長 中村 博司
Y6: 同 第３種事業委員会
AA7: 委員長 則末 俊介
A9: 令和8年度あさひかわ新聞杯第17回旭川・道北地区ALBALUPOカブスリーグU-15の開催について
B12: 下記の要項により，標記の大会を開催いたしますので，ご案内申し上げます。
A14: 1 | C14: 主旨 | F14: 道北ブロックカブスリーグU-15の下部の大会として，中連，クラブ選手権につながるチームづくりの機会として，数多くのプレー機会の確保や充実を図り，選手のモチべーションやパフォーマンスの向上を図ることを目的とする。
A18: 2 | C18: 名称 | F18: 本大会の名称をあさひかわ新聞杯旭川・道北地区ALBALUPOカブスリーグU-15（ALBALUPOカブス）とする。
A20: 3 | C20: 主催 | F20: 旭川地区サッカー協会（担当 同 第３種事業委員会）
A22: 4 | C22: 共催 | F22: 道北地区サッカー協会（担当 同 第３種委員会）
F23: 旭川市中学校連盟
AP24: ４月 | AR24: 26日（土），27日（日），29日（火），３日（土），４日（日），５日（月）
A25: 5 | C25: 協賛 | F25: 一般社団法人ALBALUPO sports entertainment club 公式球協賛（株）MIKASA 優勝杯協賛 あさひかわ新聞（株）北のまち新聞社
A27: 6 | C27: 期日 | F27: D1/D2 4月18日（土）～10月4日（日） | AP27: ５月 | AR27: 10日（土），11日（日），17日（土），24日（土），25日（日），31日（土）
A29: 7 | C29: 会場 | F29: リアルター夢りんご東光スポーツ公園球技場，東川ゆめ公園，花咲球技場，市内中学校グランド，士別市天塩川サッカー場，名寄健康の森 ほか
A31: 8 | C31: 競技規則
B32: ① | C32: ディビジョン１は，2回戦総当たりのリーグ戦とする。 ディビジョン２は，年間12～18試合程度となるように総当たり2回戦のリーグ戦となるようグループを構成する。12試合に満たないリーグが生じたときには，決勝リーグではなく順位決定リーグを行い，年間の総試合数を確保する。（事務局協議）（詳しくはリーグ構成表に記述）
B33: ② | C33: 試合時間はD1とD2準決勝以降（70分）D2/（60分）とし，決しない場合は引き分けとする。リーグ戦後の試合で決しない場合はリーグ戦順位が上位のチームの勝利とする。同順位同士の対戦の時は，ペナルティキック方式で次回戦進出チームを決定する。
B35: ③ | C35: 決勝トーナメントは次の通り実施する。 ①2つのリーグの場合は，D2Aから5チーム，D2Bから1チームの6チームで実施する。 ②3つのリーグの場合は，D2Aから4チーム、D2Bの2リーグから1位の2チームで実施する。
B36: ④ | C36: 選手交代は競技開始前に登録した最大9名の交代要員の中から最大9名までとする。ただし、脳振盪またはその疑いのある選手が発生した場合の取扱は、次の通りとする。 ・脳振盪またはその疑いのある選手の交代（以下「脳振盪交代」という）は通常交代に含まれない。 ・脳振盪交代は、通常交代と判別できる、別途指定する手続きで行われなければならない。 ・脳振盪交代と通常交代を同時に行った場合、通常交代および脳振盪交代の交代回数をそれぞれ1回としてカウントするものとする。 ・脳振盪交代をした場合、相手チームは通常交代とは別に、1名1回の交代を追加で得ることができる (以下「追加交代」という)。ただし、追加交代と通常交代を同時に行った場合、通常交代および追加交代の交代回数をそれぞれ１回としてカウントするものとする。 ・脳振盪交代で入る交代要員に限り、一度通常交代で退いた競技者も出場可とする。これはハーフタイムを除く通常交代の全３回を終えていなくても、また他にまだ出場していない交代要員がいても可、という意である。 ・1試合における各チームの脳振盪交代および追加交代の交代人数は、それぞれ1名とする。
B37: ⑤ | C37: 選手交代(通常交代)の回数は、各チーム最大3回とする（1回に複数人を交代することは可能)。ただしハーフタイムでの選手交代は、交代回数に含まれない。
B38: ⑥ | C38: 反則による警告，退場等の規則は旭川地区サッカー協会第３種事業委員会懲罰規定によるものとする。
B39: ⑦ | C39: 本リーグ期間中に警告を3回受けた選手は、次の1試合に出場できない。但し、この規定は北海道内の全てのリーグ戦に適用され、本リーグ戦次戦の出場停止処分が消化するまでは、他の全てのリーグ戦に出場できない。なお、リーグ戦後の決勝トーナメントでは警告数はリセットされる。
B40: ⑧ | C40: その他の規則については，令和8年度（公財）日本サッカー協会の制定する規則により行う。
B41: ⑨ | C41: 複数参加しているチームのプロテクト選手以外は，大会に登録していれば選手エントリーの変更を自由とする。背番号等は試合開始前に提出するオーダー用紙に記入すること。
B42: ⑩ | C42: ディビジョン2では，前年度の大会等での成績により，決勝トーナメントに4チーム進出（2グループの場合は5チーム）できるAリーグと1チームのみのBリーグを編成する。
B44: ⑪ | C44: 勝ち点は勝利（３点）引き分け（１点）敗北（０点）とする。
B45: ⑫ | C45: 順位は次の順序により決定する。 ① 勝ち点（勝3点，引分1点，負0点） ② ゴールディファレンス ③ 総得点 ④ 当該チームの対戦成績（勝ち点） ⑤ 当該チームの対戦でのゴールディファレンス ⑥ 当該チームでの対戦での総得点 ⑦ 実行委員会による抽選
A46: 9 | C46: ユニフォーム
B47: ① | C47: ユニフォーム（シャツ・ショーツ・ソックス）は正の他に，副として正と色の異なるユニフォームを参加申込の際に記載し，各試合に必ず携行すること（ＦＰ・ＧＫ用共）。
B48: ② | C48: 審判(黒色）と同一または類似したシャツを試合において着用することはできない。
B49: ③ | C49: ユニフォームの背番号は試合開始前に提出するオーダー用紙の番号と同一にすること。
B50: ④ | C50: シャツの前面・背面にオーダー用紙に記載された番号を付けること。
B51: ⑤ | C51: 本リーグにおいては，選手の用具に関する下記の内容を緩和する。
C52: その他については，(公財)日本サッカー協会ユニフォーム規程によるが，以下の内容については，従来のユニフォーム規程を緩和する。
C53: ・ソックスにテープまたはその他の材質のものを貼り付ける，または外部に着用する場合，ソックスと同色でなくてもよい。
C54: ・アンダーシャツ，アンダーショーツ及びタイツの色は問わない。ただし，チーム内で同色のものを着用することが望ましい。
...

Sheet 参加申込書
A1: 令和8年度第17回旭川・道北地区カブスリーグU-15
A3: ふりがな | O3: チーム登録番号
A4: チーム名 | O4: 所在地 | R4: 〒
A6: e-mail | O6: ＴＥＬ | W6: ＦＡＸ
A8: ふりがな | M8: 指導者資格 | O8: 所在地 | R8: 〒 | AI8: Ｓ級
A9: 監督 | AI9: Ａ級
O10: ＴＥＬ | W10: ＦＡＸ | AI10: Ｂ級
A11: ｅ－ｍａｉｌ | O11: 携帯電話 | AI11: Ｃ級
A12: ふりがな | M12: 指導者資格 | O12: 所在地 | R12: 〒 | AE12: =IF(ISBLANK(E13)," ",E13)&AF12&IF(ISBLANK(E17)," ",E17)&AF12&IF(ISBLANK(E21)," ",E21)&AF12&IF(ISBLANK(E25)," ",E25) | AI12: Ｄ級
A13: コーチ
O14: ＴＥＬ | W14: ＦＡＸ
A15: ｅ－ｍａｉｌ | O15: 携帯電話
A16: ふりがな | M16: 指導者資格 | O16: 所在地 | R16: 〒
A17: コーチ
O18: ＴＥＬ | W18: ＦＡＸ
A19: ｅ－ｍａｉｌ | O19: 携帯電話
A20: ふりがな | M20: 指導者資格 | O20: 所在地 | R20: 〒
A21: コーチ
O22: ＴＥＬ | W22: ＦＡＸ
A23: ｅ－ｍａｉｌ | O23: 携帯電話
A24: ふりがな | M24: 指導者資格 | O24: 所在地 | R24: 〒
A25: コーチ
O26: ＴＥＬ | W26: ＦＡＸ
A27: ｅ－ｍａｉｌ | O27: 携帯電話
A28: ユニフォームの色 | E28: シャツ | I28: 正 | M28: ショーツ | Q28: 正 | U28: ストッキング | Z28: 正 | AE28: =IF(ISBLANK(J28)," ",J28)&AF28&IF(ISBLANK(R28)," ",R28)&AF28&IF(ISBLANK(AA28)," ",AA28)&AF28&IF(ISBLANK(E41)," ",E41)
I29: 副 | Q29: 副 | Z29: 副 | AE29: =IF(ISBLANK(J29)," ",J29)&AF29&IF(ISBLANK(R29)," ",R29)&AF29&IF(ISBLANK(AA29)," ",AA29)&AF29&IF(ISBLANK(E42)," ",E42)
A30: 〃（GK)の色 | E30: シャツ | I30: 正 | M30: ショーツ | Q30: 正 | U30: ストッキング | Z30: 正 | AE30: =IF(ISBLANK(J30)," ",J30)&AF30&IF(ISBLANK(R30)," ",R30)&AF30&IF(ISBLANK(AA30)," ",AA30)&AF30&IF(ISBLANK(E43)," ",E43)
I31: 副 | Q31: 副 | Z31: 副 | AE31: =IF(ISBLANK(J31)," ",J31)&AF31&IF(ISBLANK(R31)," ",R31)&AF31&IF(ISBLANK(AA31)," ",AA31)&AF31&IF(ISBLANK(E44)," ",E44)
A32: ふりがな | O32: 所在地 | R32: 〒
A33: 帯同審判員氏名
N34: 級 | O34: ＴＥＬ | W34: ＦＡＸ
A35: ｅ－ｍａｉｌ | O35: 携帯電話
A36: 上記チーム・選手登録用紙に記載された選手は、本地区サッカー協会に加盟登録していることを認め、標記大会に参加を申込みます。
B38: 令和 | E38: 年 | G38: 月 | I38: 日 | O38: 地区サッカー協会会長

Sheet 選手登録用紙 (2)
A1: =参加申込書!A1 -> 令和8年度第17回旭川・道北地区カブスリーグU-15 | AD1: =A1 -> 令和8年度第17回旭川・道北地区カブスリーグU-15
A3: チーム名 | AD3: チーム名
A5: No | B5: 背番号 | D5: 位置 | F5: 選 手 氏 名 | N5: 学 年 | Q5: 前登録チーム | W5: 登 録 番 号 | AD5: No | AE5: 背番号 | AG5: 位置 | AI5: 選 手 氏 名 | AQ5: 学 年 | AT5: 前登録チーム | AZ5: 登 録 番 号
A6: 1 | B6: 1 | D6: GK | F6: a | N6: 3 | Q6: a | W6: 4 | AD6: 1 | AI6: 長友 佑都 | AQ6: 2 | AT6: インテル | AZ6: 390003453 | BJ6: Ｐ | BK6: 旭川神居東ファイターズＳＳ
A7: 2 | AD7: 2 | AI7: 松井 大輔 | AQ7: 3 | AT7: マルセイユ | AZ7: 390003453 | BK7: 旭川陵雲サッカー少年団
A8: 3 | AD8: 3 | BK8: 永山南サッカー少年団
A9: 4 | AD9: 4 | BK9: 末広サッカー少年団
A10: 5 | AD10: 5 | BK10: 永山サッカー少年団
A11: 6 | AD11: 6 | BK11: 旭川コスモスジュニアフットボールクラブ
A12: 7 | AD12: 7 | BK12: 旭川北鎮ＪｒＦＣ
A13: 8 | AD13: 8 | BK13: 増毛サッカー少年団
A14: 9 | AD14: 9 | BK14: 向陵サッカークラブ
A15: 10 | AD15: 10 | BK15: 旭川忠和サッカー少年団
A16: 11 | AD16: 11 | BK16: 旭川東光サッカー少年団
A17: 12 | AD17: 12 | BK17: 旭川ネイバーズＦＣ
A18: 13 | AD18: 13 | BK18: 旭川末広北サッカー少年団
A19: 14 | AD19: 14 | BK19: ＦＣ ＡＳＴＲＯ ＢＯＹＳ
... A45: 40 | AD45: 40 | BK45: 稚内ラソフォルテスＦＣ
A46: 41 | BK46: 浜頓別サッカー少年団
A47: 42 | BK47: 名寄サッカー少年団
A48: 43 | BK48: 下川サッカー少年団
A49: 44 | BK49: 美深サッカー少年団
A50: 45 | BK50: サフォークランド士別ＦＣ
A51: 46
A52: 47
A53: 48
A54: 49
A55: 50
A56: 51
A57: 52
A58: 53
A59: 54
A60: 55
A61: 56
A62: 57
... A213: 208

Sheet プログラム (2)
A1: チーム名 | E1: =参加申込書!E4 -> 0
F7: 写真
A15: 監督 | C15: =参加申込書!E9 -> 0 | E15: コーチ | H15: =参加申込書!E13 -> 0 | J15: =参加申込書!E17 -> 0 | L15: =参加申込書!E21 -> 0 | N15: =参加申込書!E25 -> 0
A16: 背番号 | B16: 位置 | C16: 氏 名 | E16: 学年
A17: =IF(ISBLANK('選手登録用紙 (2)'!B6)," ",'選手登録用紙 (2)'!B6) -> 1 | B17: =IF(ISBLANK('選手登録用紙 (2)'!D6)," ",'選手登録用紙 (2)'!D6) -> GK | C17: =IF(ISBLANK('選手登録用紙 (2)'!F6)," ",'選手登録用紙 (2)'!F6) -> a | E17: =IF(ISBLANK('選手登録用紙 (2)'!N6)," ",'選手登録用紙 (2)'!N6) -> 3
A18: =IF(ISBLANK('選手登録用紙 (2)'!B7)," ",'選手登録用紙 (2)'!B7) | B18: =IF(ISBLANK('選手登録用紙 (2)'!D7)," ",'選手登録用紙 (2)'!D7) | C18: =IF(ISBLANK('選手登録用紙 (2)'!F7)," ",'選手登録用紙 (2)'!F7) | E18: =IF(ISBLANK('選手登録用紙 (2)'!N7)," ",'選手登録用紙 (2)'!N7)
A19: =IF(ISBLANK('選手登録用紙 (2)'!B8)," ",'選手登録用紙 (2)'!B8) | B19: =IF(ISBLANK('選手登録用紙 (2)'!D8)," ",'選手登録用紙 (2)'!D8) | C19: =IF(ISBLANK('選手登録用紙 (2)'!F8)," ",'選手登録用紙 (2)'!F8) | E19: =IF(ISBLANK('選手登録用紙 (2)'!N8)," ",'選手登録用紙 (2)'!N8)
A20: =IF(ISBLANK('選手登録用紙 (2)'!B9)," ",'選手登録用紙 (2)'!B9) | B20: =IF(ISBLANK('選手登録用紙 (2)'!D9)," ",'選手登録用紙 (2)'!D9) | C20: =IF(ISBLANK('選手登録用紙 (2)'!F9)," ",'選手登録用紙 (2)'!F9) | E20: =IF(ISBLANK('選手登録用紙 (2)'!N9)," ",'選手登録用紙 (2)'!N9)
A21: =IF(ISBLANK('選手登録用紙 (2)'!B10)," ",'選手登録用紙 (2)'!B10) | B21: =IF(ISBLANK('選手登録用紙 (2)'!D10)," ",'選手登録用紙 (2)'!D10) | C21: =IF(ISBLANK('選手登録用紙 (2)'!F10)," ",'選手登録用紙 (2)'!F10) | E21: =IF(ISBLANK('選手登録用紙 (2)'!N10)," ",'選手登録用紙 (2)'!N10)
A22: =IF(ISBLANK('選手登録用紙 (2)'!B11)," ",'選手登録用紙 (2)'!B11) | B22: =IF(ISBLANK('選手登録用紙 (2)'!D11)," ",'選手登録用紙 (2)'!D11) | C22: =IF(ISBLANK('選手登録用紙 (2)'!F11)," ",'選手登録用紙 (2)'!F11) | E22: =IF(ISBLANK('選手登録用紙 (2)'!N11)," ",'選手登録用紙 (2)'!N11)
A23: =IF(ISBLANK('選手登録用紙 (2)'!B12)," ",'選手登録用紙 (2)'!B12) | B23: =IF(ISBLANK('選手登録用紙 (2)'!D12)," ",'選手登録用紙 (2)'!D12) | C23: =IF(ISBLANK('選手登録用紙 (2)'!F12)," ",'選手登録用紙 (2)'!F12) | E23: =IF(ISBLANK('選手登録用紙 (2)'!N12)," ",'選手登録用紙 (2)'!N12) | L23: ＦＰ | N23: ＧＫ
A24: =IF(ISBLANK('選手登録用紙 (2)'!B13)," ",'選手登録用紙 (2)'!B13) | B24: =IF(ISBLANK('選手登録用紙 (2)'!D13)," ",'選手登録用紙 (2)'!D13) | C24: =IF(ISBLANK('選手登録用紙 (2)'!F13)," ",'選手登録用紙 (2)'!F13) | E24: =IF(ISBLANK('選手登録用紙 (2)'!N13)," ",'選手登録用紙 (2)'!N13) | L24: 正 | M24: 副 | N24: 正 | O24: 副
A25: =IF(ISBLANK('選手登録用紙 (2)'!B14)," ",'選手登録用紙 (2)'!B14) | B25: =IF(ISBLANK('選手登録用紙 (2)'!D14)," ",'選手登録用紙 (2)'!D14) | C25: =IF(ISBLANK('選手登録用紙 (2)'!F14)," ",'選手登録用紙 (2)'!F14) | E25: =IF(ISBLANK('選手登録用紙 (2)'!N14)," ",'選手登録用紙 (2)'!N14) | K25: シャツ | L25: =[1]参加申込書!J28 -> 0 | M25: =[1]参加申込書!J29 -> 0 | N25: =[1]参加申込書!J30 -> 0 | O25: =[1]参加申込書!J31 -> 0
A26: =IF(ISBLANK('選手登録用紙 (2)'!B15)," ",'選手登録用紙 (2)'!B15) | B26: =IF(ISBLANK('選手登録用紙 (2)'!D15)," ",'選手登録用紙 (2)'!D15) | C26: =IF(ISBLANK('選手登録用紙 (2)'!F15)," ",'選手登録用紙 (2)'!F15) | E26: =IF(ISBLANK('選手登録用紙 (2)'!N15)," ",'選手登録用紙 (2)'!N15) | K26: ショーツ | L26: =[1]参加申込書!R28 -> 0 | M26: =[1]参加申込書!R29 -> 0 | N26: =[1]参加申込書!R30 -> 0 | O26: =[1]参加申込書!R31 -> 0
A27: =IF(ISBLANK('選手登録用紙 (2)'!B16)," ",'選手登録用紙 (2)'!B16) | B27: =IF(ISBLANK('選手登録用紙 (2)'!D16)," ",'選手登録用紙 (2)'!D16) | C27: =IF(ISBLANK('選手登録用紙 (2)'!F16)," ",'選手登録用紙 (2)'!F16) | E27: =IF(ISBLANK('選手登録用紙 (2)'!N16)," ",'選手登録用紙 (2)'!N16) | K27: ストッキング | L27: =[1]参加申込書!AA28 -> 0 | M27: =[1]参加申込書!AA29 -> 0 | N27: =[1]参加申込書!AA30 -> 0 | O27: =[1]参加申込書!AA31 -> 0
A28: =IF(ISBLANK('選手登録用紙 (2)'!B17)," ",'選手登録用紙 (2)'!B17) | B28: =IF(ISBLANK('選手登録用紙 (2)'!D17)," ",'選手登録用紙 (2)'!D17) | C28: =IF(ISBLANK('選手登録用紙 (2)'!F17)," ",'選手登録用紙 (2)'!F17) | E28: =IF(ISBLANK('選手登録用紙 (2)'!N17)," ",'選手登録用紙 (2)'!N17)
A29: =IF(ISBLANK('選手登録用紙 (2)'!B18)," ",'選手登録用紙 (2)'!B18) | B29: =IF(ISBLANK('選手登録用紙 (2)'!D18)," ",'選手登録用紙 (2)'!D18) | C29: =IF(ISBLANK('選手登録用紙 (2)'!F18)," ",'選手登録用紙 (2)'!F18) | E29: =IF(ISBLANK('選手登録用紙 (2)'!N18)," ",'選手登録用紙 (2)'!N18)
A30: =IF(ISBLANK('選手登録用紙 (2)'!B19)," ",'選手登録用紙 (2)'!B19) | B30: =IF(ISBLANK('選手登録用紙 (2)'!D19)," ",'選手登録用紙 (2)'!D19) | C30: =IF(ISBLANK('選手登録用紙 (2)'!F19)," ",'選手登録用紙 (2)'!F19) | E30: =IF(ISBLANK('選手登録用紙 (2)'!N19)," ",'選手登録用紙 (2)'!N19)
A31: =IF(ISBLANK('選手登録用紙 (2)'!B20)," ",'選手登録用紙 (2)'!B20) | B31: =IF(ISBLANK('選手登録用紙 (2)'!D20)," ",'選手登録用紙 (2)'!D20) | C31: =IF(ISBLANK('選手登録用紙 (2)'!F20)," ",'選手登録用紙 (2)'!F20) | E31: =IF(ISBLANK('選手登録用紙 (2)'!N20)," ",'選手登録用紙 (2)'!N20)
A32: =IF(ISBLANK('選手登録用紙 (2)'!B21)," ",'選手登録用紙 (2)'!B21) | B32: =IF(ISBLANK('選手登録用紙 (2)'!D21)," ",'選手登録用紙 (2)'!D21) | C32: =IF(ISBLANK('選手登録用紙 (2)'!F21)," ",'選手登録用紙 (2)'!F21) | E32: =IF(ISBLANK('選手登録用紙 (2)'!N21)," ",'選手登録用紙 (2)'!N21)
A33: =IF(ISBLANK('選手登録用紙 (2)'!B22)," ",'選手登録用紙 (2)'!B22) | B33: =IF(ISBLANK('選手登録用紙 (2)'!D22)," ",'選手登録用紙 (2)'!D22) | C33: =IF(ISBLANK('選手登録用紙 (2)'!F22)," ",'選手登録用紙 (2)'!F22) | E33: =IF(ISBLANK('選手登録用紙 (2)'!N22)," ",'選手登録用紙 (2)'!N22)
A34: =IF(ISBLANK('選手登録用紙 (2)'!B23)," ",'選手登録用紙 (2)'!B23) | B34: =IF(ISBLANK('選手登録用紙 (2)'!D23)," ",'選手登録用紙 (2)'!D23) | C34: =IF(ISBLANK('選手登録用紙 (2)'!F23)," ",'選手登録用紙 (2)'!F23) | E34: =IF(ISBLANK('選手登録用紙 (2)'!N23)," ",'選手登録用紙 (2)'!N23)
A35: =IF(ISBLANK('選手登録用紙 (2)'!B24)," ",'選手登録用紙 (2)'!B24) | B35: =IF(ISBLANK('選手登録用紙 (2)'!D24)," ",'選手登録用紙 (2)'!D24) | C35: =IF(ISBLANK('選手登録用紙 (2)'!F24)," ",'選手登録用紙 (2)'!F24) | E35: =IF(ISBLANK('選手登録用紙 (2)'!N24)," ",'選手登録用紙 (2)'!N24)
A36: =IF(ISBLANK('選手登録用紙 (2)'!B25)," ",'選手登録用紙 (2)'!B25) | B36: =IF(ISBLANK('選手登録用紙 (2)'!D25)," ",'選手登録用紙 (2)'!D25) | C36: =IF(ISBLANK('選手登録用紙 (2)'!F25)," ",'選手登録用紙 (2)'!F25) | E36: =IF(ISBLANK('選手登録用紙 (2)'!N25)," ",'選手登録用紙 (2)'!N25)
A37: =IF(ISBLANK('選手登録用紙 (2)'!B26)," ",'選手登録用紙 (2)'!B26) | B37: =IF(ISBLANK('選手登録用紙 (2)'!D26)," ",'選手登録用紙 (2)'!D26) | C37: =IF(ISBLANK('選手登録用紙 (2)'!F26)," ",'選手登録用紙 (2)'!F26) | E37: =IF(ISBLANK('選手登録用紙 (2)'!N26)," ",'選手登録用紙 (2)'!N26)
A38: =IF(ISBLANK('選手登録用紙 (2)'!B27)," ",'選手登録用紙 (2)'!B27) | B38: =IF(ISBLANK('選手登録用紙 (2)'!D27)," ",'選手登録用紙 (2)'!D27) | C38: =IF(ISBLANK('選手登録用紙 (2)'!F27)," ",'選手登録用紙 (2)'!F27) | E38: =IF(ISBLANK('選手登録用紙 (2)'!N27)," ",'選手登録用紙 (2)'!N27)
A39: =IF(ISBLANK('選手登録用紙 (2)'!B28)," ",'選手登録用紙 (2)'!B28) | B39: =IF(ISBLANK('選手登録用紙 (2)'!D28)," ",'選手登録用紙 (2)'!D28) | C39: =IF(ISBLANK('選手登録用紙 (2)'!F28)," ",'選手登録用紙 (2)'!F28) | E39: =IF(ISBLANK('選手登録用紙 (2)'!N28)," ",'選手登録用紙 (2)'!N28)
... A135: =IF(ISBLANK('選手登録用紙 (2)'!B124)," ",'選手登録用紙 (2)'!B124) | B135: =IF(ISBLANK('選手登録用紙 (2)'!D124)," ",'選手登録用紙 (2)'!D124) | C135: =IF(ISBLANK('選手登録用紙 (2)'!F124)," ",'選手登録用紙 (2)'!F124) | E135: =IF(ISBLANK('選手登録用紙 (2)'!N124)," ",'選手登録用紙 (2)'!N124)
A136: =IF(ISBLANK('選手登録用紙 (2)'!B125)," ",'選手登録用紙 (2)'!B125) | B136: =IF(ISBLANK('選手登録用紙 (2)'!AF86)," ",'選手登録用紙 (2)'!AF86) | C136: =IF(ISBLANK('選手登録用紙 (2)'!AJ86)," ",'選手登録用紙 (2)'!AJ86) | E136: =IF(ISBLANK('選手登録用紙 (2)'!AR86)," ",'選手登録用紙 (2)'!AR86)
A137: =IF(ISBLANK('選手登録用紙 (2)'!B126)," ",'選手登録用紙 (2)'!B126) | B137: =IF(ISBLANK('選手登録用紙 (2)'!AF87)," ",'選手登録用紙 (2)'!AF87) | C137: =IF(ISBLANK('選手登録用紙 (2)'!AJ87)," ",'選手登録用紙 (2)'!AJ87) | E137: =IF(ISBLANK('選手登録用紙 (2)'!AR87)," ",'選手登録用紙 (2)'!AR87)
A138: =IF(ISBLANK('選手登録用紙 (2)'!B127)," ",'選手登録用紙 (2)'!B127) | B138: =IF(ISBLANK('選手登録用紙 (2)'!AF88)," ",'選手登録用紙 (2)'!AF88) | C138: =IF(ISBLANK('選手登録用紙 (2)'!AJ88)," ",'選手登録用紙 (2)'!AJ88) | E138: =IF(ISBLANK('選手登録用紙 (2)'!AR88)," ",'選手登録用紙 (2)'!AR88)
A139: =IF(ISBLANK('選手登録用紙 (2)'!B128)," ",'選手登録用紙 (2)'!B128) | B139: =IF(ISBLANK('選手登録用紙 (2)'!AF89)," ",'選手登録用紙 (2)'!AF89) | C139: =IF(ISBLANK('選手登録用紙 (2)'!AJ89)," ",'選手登録用紙 (2)'!AJ89) | E139: =IF(ISBLANK('選手登録用紙 (2)'!AR89)," ",'選手登録用紙 (2)'!AR89)
A140: =IF(ISBLANK('選手登録用紙 (2)'!B129)," ",'選手登録用紙 (2)'!B129) | B140: =IF(ISBLANK('選手登録用紙 (2)'!AF90)," ",'選手登録用紙 (2)'!AF90) | C140: =IF(ISBLANK('選手登録用紙 (2)'!AJ90)," ",'選手登録用紙 (2)'!AJ90) | E140: =IF(ISBLANK('選手登録用紙 (2)'!AR90)," ",'選手登録用紙 (2)'!AR90)

Sheet 地区カブスオーダー用紙
C1: =参加申込書!A1 -> 令和8年度第17回旭川・道北地区カブスリーグU-15
C2: （ ）月（ ）日 第（ ）節
C3: チーム名 | H3: ='選手登録用紙 (2)'!F3:AC3 -> 0
C4: 相手チーム（ ）
C5: 背番号 | E5: スタメンの位置 | H5: ベンチ | K5: 選手名 | R5: 学年 | T5: 選手登録番号 | Z5: 同日連日出場時間P
C6: ='選手登録用紙 (2)'!B6 -> 1 | K6: ='選手登録用紙 (2)'!F6 -> a | R6: ='選手登録用紙 (2)'!N6 -> 3 | T6: ='選手登録用紙 (2)'!W6 -> 4 | AB6: 4
C7: ='選手登録用紙 (2)'!B7 -> 0 | K7: ='選手登録用紙 (2)'!F7 -> 0 | R7: ='選手登録用紙 (2)'!N7 -> 0 | T7: ='選手登録用紙 (2)'!W7 -> 0 | AB7: 3
C8: ='選手登録用紙 (2)'!B8 -> 0 | K8: ='選手登録用紙 (2)'!F8 -> 0 | R8: ='選手登録用紙 (2)'!N8 -> 0 | T8: ='選手登録用紙 (2)'!W8 -> 0 | AB8: 2
C9: ='選手登録用紙 (2)'!B9 -> 0 | K9: ='選手登録用紙 (2)'!F9 -> 0 | R9: ='選手登録用紙 (2)'!N9 -> 0 | T9: ='選手登録用紙 (2)'!W9 -> 0 | AB9: 1
C10: ='選手登録用紙 (2)'!B10 -> 0 | K10: ='選手登録用紙 (2)'!F10 -> 0 | R10: ='選手登録用紙 (2)'!N10 -> 0 | T10: ='選手登録用紙 (2)'!W10 -> 0
C11: ='選手登録用紙 (2)'!B11 -> 0 | K11: ='選手登録用紙 (2)'!F11 -> 0 | R11: ='選手登録用紙 (2)'!N11 -> 0 | T11: ='選手登録用紙 (2)'!W11 -> 0
C12: ='選手登録用紙 (2)'!B12 -> 0 | K12: ='選手登録用紙 (2)'!F12 -> 0 | R12: ='選手登録用紙 (2)'!N12 -> 0 | T12: ='選手登録用紙 (2)'!W12 -> 0
C13: ='選手登録用紙 (2)'!B13 -> 0 | K13: ='選手登録用紙 (2)'!F13 -> 0 | R13: ='選手登録用紙 (2)'!N13 -> 0 | T13: ='選手登録用紙 (2)'!W13 -> 0
C14: ='選手登録用紙 (2)'!B14 -> 0 | K14: ='選手登録用紙 (2)'!F14 -> 0 | R14: ='選手登録用紙 (2)'!N14 -> 0 | T14: ='選手登録用紙 (2)'!W14 -> 0
C15: ='選手登録用紙 (2)'!B15 -> 0 | K15: ='選手登録用紙 (2)'!F15 -> 0 | R15: ='選手登録用紙 (2)'!N15 -> 0 | T15: ='選手登録用紙 (2)'!W15 -> 0
C16: ='選手登録用紙 (2)'!B16 -> 0 | K16: ='選手登録用紙 (2)'!F16 -> 0 | R16: ='選手登録用紙 (2)'!N16 -> 0 | T16: ='選手登録用紙 (2)'!W16 -> 0
C17: ='選手登録用紙 (2)'!B17 -> 0 | K17: ='選手登録用紙 (2)'!F17 -> 0 | R17: ='選手登録用紙 (2)'!N17 -> 0 | T17: ='選手登録用紙 (2)'!W17 -> 0
C18: ='選手登録用紙 (2)'!B18 -> 0 | K18: ='選手登録用紙 (2)'!F18 -> 0 | R18: ='選手登録用紙 (2)'!N18 -> 0 | T18: ='選手登録用紙 (2)'!W18 -> 0
C19: ='選手登録用紙 (2)'!B19 -> 0 | K19: ='選手登録用紙 (2)'!F19 -> 0 | R19: ='選手登録用紙 (2)'!N19 -> 0 | T19: ='選手登録用紙 (2)'!W19 -> 0
C20: ='選手登録用紙 (2)'!B20 -> 0 | K20: ='選手登録用紙 (2)'!F20 -> 0 | R20: ='選手登録用紙 (2)'!N20 -> 0 | T20: ='選手登録用紙 (2)'!W20 -> 0
C21: ='選手登録用紙 (2)'!B21 -> 0 | K21: ='選手登録用紙 (2)'!F21 -> 0 | R21: ='選手登録用紙 (2)'!N21 -> 0 | T21: ='選手登録用紙 (2)'!W21 -> 0
... C40: ='選手登録用紙 (2)'!B40 -> 0 | K40: ='選手登録用紙 (2)'!F40 -> 0 | R40: ='選手登録用紙 (2)'!N40 -> 0 | T40: ='選手登録用紙 (2)'!W40 -> 0
C41: 先発選手はポジションを記入。ベンチの欄には試合登録選手（9名以下）に○をつける。

Sheet 交代用紙
B1: 選手交代用紙
B3: 対戦カード | K3: チーム名
B4: =参加申込書!E4 -> 0 | E4: 対 | K4: チーム名 | M4: =B4 -> 0
B6: 1 | C6: 背番号 | D6: 何れかに○。（ ）はHT以外の交代回数 | G6: 2 | H6: 背番号 | I6: 何れかに○。（ ）はHT以外の交代回数 | L6: 3 | M6: 背番号 | N6: 何れかに○。（ ）はHT以外の交代回数
B7: OUT | D7: 前半（ ） ハーフタイム 後半（ ） | G7: OUT | I7: 前半（ ） ハーフタイム 後半（ ） | L7: OUT | N7: 前半（ ） ハーフタイム 後半（ ）
B8: IN | G8: IN | L8: IN
B10: 4 | C10: 背番号 | D10: 何れかに○。（ ）はHT以外の交代回数 | G10: 5 | H10: 背番号 | I10: 何れかに○。（ ）はHT以外の交代回数 | L10: 6 | M10: 背番号 | N10: 何れかに○。（ ）はHT以外の交代回数
B11: OUT | D11: 前半（ ） ハーフタイム 後半（ ） | G11: OUT | I11: 前半（ ） ハーフタイム 後半（ ） | L11: OUT | N11: 前半（ ） ハーフタイム 後半（ ）
B12: IN | G12: IN | L12: IN
B14: 7 | C14: 背番号 | D14: 何れかに○。（ ）はHT以外の交代回数 | G14: 8 | H14: 背番号 | I14: 何れかに○。（ ）はHT以外の交代回数 | L14: 9 | M14: 背番号 | N14: 何れかに○。（ ）はHT以外の交代回数
B15: OUT | D15: 前半（ ） ハーフタイム 後半（ ） | G15: OUT | I15: 前半（ ） ハーフタイム 後半（ ） | L15: OUT | N15: 前半（ ） ハーフタイム 後半（ ）
B16: IN | G16: IN | L16: IN
B18: ①選手交代は競技開始前に登録した最大9名の交代要員の中から最大9名までとする。
B19: ②選手交代(通常交代)の回数は、各チーム最大3回とする（1回に複数人を交代することは可能)。ただしハーフタイムでの選手交代は、交代回数に含まれない。
B21: 脳振盪交代
B22: ①脳振盪またはその疑いのある選手の交代は通常交代に含まれない。
B23: ②脳振盪交代と通常交代を同時に行った場合、通常交代および脳振盪交代の交代回数をそれぞれ1回としてカウントするものとする。
B24: ③脳振盪交代をした場合、相手チームは通常交代とは別に、1名1回の追加交代を行うことができる (以下「追加交代」という)。
B25: ただし、追加交代と通常交代を同時に行った場合、通常交代および追加交代の交代回数をそれぞれ１回としてカウントするものとする。
B26: ④脳振盪交代で入る交代要員に限り、一度通常交代で退いた競技者も出場可とする。これはハーフタイムを除く通常交代の全３回を終えて
B27: いなくても、また他にまだ出場していない交代要員がいても可、という意である。
B28: ⑤1試合における各チームの脳振盪交代および追加交代の交代人数は、 それぞれ1名とする。
B30: 脳震盪交代 | G30: 追加交代
C31: 背番号 | D31: 何れかに○。（ ）はHT以外の交代回数 | H31: 背番号 | I31: 何れかに○。（ ）はHT以外の交代回数
B32: OUT | D32: 前半（ ） ハーフタイム 後半（ ） | G32: OUT | I32: 前半（ ） ハーフタイム 後半（ ）
B33: IN | G33: IN
